BEGIN:VCALENDAR
VERSION:2.0
PRODID:-//Multifamily Mentor Matchmaking - ECPv6.14.1//NONSGML v1.0//EN
CALSCALE:GREGORIAN
METHOD:PUBLISH
X-ORIGINAL-URL:https://multifamilymentormatchmaking.com
X-WR-CALDESC:Events for Multifamily Mentor Matchmaking
REFRESH-INTERVAL;VALUE=DURATION:PT1H
X-Robots-Tag:noindex
X-PUBLISHED-TTL:PT1H
BEGIN:VTIMEZONE
TZID:America/New_York
BEGIN:DAYLIGHT
TZOFFSETFROM:-0500
TZOFFSETTO:-0400
TZNAME:EDT
DTSTART:20250309T070000
END:DAYLIGHT
BEGIN:STANDARD
TZOFFSETFROM:-0400
TZOFFSETTO:-0500
TZNAME:EST
DTSTART:20251102T060000
END:STANDARD
BEGIN:DAYLIGHT
TZOFFSETFROM:-0500
TZOFFSETTO:-0400
TZNAME:EDT
DTSTART:20260308T070000
END:DAYLIGHT
BEGIN:STANDARD
TZOFFSETFROM:-0400
TZOFFSETTO:-0500
TZNAME:EST
DTSTART:20261101T060000
END:STANDARD
END:VTIMEZONE
BEGIN:VEVENT
DTSTART;TZID=America/New_York:20260217T200000
DTEND;TZID=America/New_York:20260217T210000
DTSTAMP:20260420T061701
CREATED:20260117T153514Z
LAST-MODIFIED:20260117T154902Z
UID:10000103-1771358400-1771362000@multifamilymentormatchmaking.com
SUMMARY:After Dark Call (New Format)
DESCRIPTION:Word of the Month: Connection. Come with one story that connects to this word (work or life). If you have nothing\, show up anyway. There will be freestyle time\, always. Optional: bring one question you want the room to weigh in on. \nAs Always: Leave your recording devices at the door—this one’s strictly off the record!\n\nJoin Zoom Meeting\nhttps://zoom.us/j/98778998317?pwd=5kZ9PjSbnfVaCL2EDt6Zo0LXRlqHQb.1Meeting ID: 987 7899 8317\nPasscode: 092984
URL:https://multifamilymentormatchmaking.com/event/after-dark-call-new-format/
CATEGORIES:After Dark
ATTACH;FMTTYPE=image/png:https://multifamilymentormatchmaking.com/wp-content/uploads/2026/01/Feb-After-Dark-1.png
LOCATION:https://zoom.us/j/98778998317?pwd=5kZ9PjSbnfVaCL2EDt6Zo0LXRlqHQb.1
END:VEVENT
BEGIN:VEVENT
DTSTART;TZID=America/New_York:20251021T200000
DTEND;TZID=America/New_York:20251021T210000
DTSTAMP:20260420T061701
CREATED:20251003T215448Z
LAST-MODIFIED:20251005T162628Z
UID:10000096-1761076800-1761080400@multifamilymentormatchmaking.com
SUMMARY:After Dark Call
DESCRIPTION:Speak your mind\, dive into the deep stuff\, and maybe even stir the pot a little. \nLeave your recording devices at the door.  This one’s strictly off the record! \nNo judgments…just pure\, unfiltered conversation. \nZoom Link HERE.
URL:https://multifamilymentormatchmaking.com/event/after-dark-call-2/
CATEGORIES:After Dark
ATTACH;FMTTYPE=image/png:https://multifamilymentormatchmaking.com/wp-content/uploads/2025/10/After-Dark-1021v2-1.png
LOCATION:https://zoom.us/j/93114386807?pwd=lcnpdQ6Qexbitk9EvSTVLAJUExP2NW.1
END:VEVENT
BEGIN:VEVENT
DTSTART;TZID=America/New_York:20250624T200000
DTEND;TZID=America/New_York:20250624T210000
DTSTAMP:20260420T061701
CREATED:20250820T004025Z
LAST-MODIFIED:20250820T004025Z
UID:10000087-1750795200-1750798800@multifamilymentormatchmaking.com
SUMMARY:After Dark
DESCRIPTION:Speak your mind\, dive into the deep stuff\, and maybe even stir the pot a little. \nNo judgments…just pure\, unfiltered conversation. \nLeave your recording devices at the door.  This one’s strictly off the record!
URL:https://multifamilymentormatchmaking.com/event/after-dark-2/
CATEGORIES:After Dark
ATTACH;FMTTYPE=image/png:https://multifamilymentormatchmaking.com/wp-content/uploads/2025/08/Copy-of-Copy-of-After-Dark.png
END:VEVENT
BEGIN:VEVENT
DTSTART;TZID=America/New_York:20250527T200000
DTEND;TZID=America/New_York:20250527T210000
DTSTAMP:20260420T061701
CREATED:20250507T022535Z
LAST-MODIFIED:20250526T225101Z
UID:10000072-1748376000-1748379600@multifamilymentormatchmaking.com
SUMMARY:After Dark Call
DESCRIPTION:Speak your mind\, dive into the deep stuff\, and maybe even stir the pot a little. No judgments…just pure\, unfiltered conversation. \nNote: Leave your recording devices at the door—this one’s strictly off the record! \nCheck back here for Zoom link 15 minutes before event start time. 
URL:https://multifamilymentormatchmaking.com/event/after-dark-call/
CATEGORIES:After Dark
ATTACH;FMTTYPE=image/jpeg:https://multifamilymentormatchmaking.com/wp-content/uploads/2025/05/After-Dark.jpg
LOCATION:https://multifamilymentormatchmaking.com/event/after-dark-call/
END:VEVENT
END:VCALENDAR